Package: MsBackendRawFileReader Version: 1.8.1 Command: rm -rf MsBackendRawFileReader.buildbin-libdir && mkdir MsBackendRawFileReader.buildbin-libdir && F:\biocbuild\bbs-3.18-bioc\R\bin\R.exe CMD INSTALL --build --library=MsBackendRawFileReader.buildbin-libdir MsBackendRawFileReader_1.8.1.tar.gz StartedAt: 2024-04-16 07:19:18 -0400 (Tue, 16 Apr 2024) EndedAt: 2024-04-16 07:19:34 -0400 (Tue, 16 Apr 2024) EllapsedTime: 16.3 seconds RetCode: 0 Status: OK PackageFile: MsBackendRawFileReader_1.8.1.zip PackageFileSize: 1.022 MiB