Package: MsExperiment Version: 1.4.0 Command: /Library/Frameworks/R.framework/Resources/bin/R CMD build --keep-empty-dirs --no-resave-data MsExperiment StartedAt: 2024-04-15 20:15:08 -0400 (Mon, 15 Apr 2024) EndedAt: 2024-04-15 20:17:28 -0400 (Mon, 15 Apr 2024) EllapsedTime: 140.0 seconds RetCode: 0 Status: OK PackageFile: MsExperiment_1.4.0.tar.gz PackageFileSize: 1.871 MiB