Package: MsExperiment Version: 1.4.0 Command: /Library/Frameworks/R.framework/Resources/bin/R CMD INSTALL MsExperiment StartedAt: 2024-04-15 15:56:23 -0400 (Mon, 15 Apr 2024) EndedAt: 2024-04-15 15:57:20 -0400 (Mon, 15 Apr 2024) EllapsedTime: 57.2 seconds RetCode: 0 Status: OK