Package: MsExperiment Version: 1.4.0 Command: /home/biocbuild/bbs-3.18-bioc/R/bin/R CMD build --keep-empty-dirs --no-resave-data MsExperiment StartedAt: 2024-04-15 18:04:52 -0400 (Mon, 15 Apr 2024) EndedAt: 2024-04-15 18:05:46 -0400 (Mon, 15 Apr 2024) EllapsedTime: 53.6 seconds RetCode: 0 Status: OK PackageFile: MsExperiment_1.4.0.tar.gz PackageFileSize: 1.87 MiB