Package: MsExperiment Version: 1.4.0 Command: /home/biocbuild/bbs-3.18-bioc/R/bin/R CMD INSTALL MsExperiment StartedAt: 2024-04-15 15:30:37 -0400 (Mon, 15 Apr 2024) EndedAt: 2024-04-15 15:31:05 -0400 (Mon, 15 Apr 2024) EllapsedTime: 27.7 seconds RetCode: 0 Status: OK