Package: MsExperiment Version: 1.4.0 Command: chmod a+r MsExperiment -R && F:\biocbuild\bbs-3.18-bioc\R\bin\R.exe CMD build --keep-empty-dirs --no-resave-data MsExperiment StartedAt: 2024-04-15 19:44:28 -0400 (Mon, 15 Apr 2024) EndedAt: 2024-04-15 19:46:05 -0400 (Mon, 15 Apr 2024) EllapsedTime: 97.9 seconds RetCode: 0 Status: OK PackageFile: MsExperiment_1.4.0.tar.gz PackageFileSize: 1.861 MiB