Package: MsFeatures Version: 1.10.0 Command: rm -rf MsFeatures.buildbin-libdir && mkdir MsFeatures.buildbin-libdir && /Users/biocbuild/BBS/utils/build-universal.sh MsFeatures_1.10.0.tar.gz /Library/Frameworks/R.framework/Resources/bin/R MsFeatures.buildbin-libdir StartedAt: 2024-03-04 00:52:10 -0500 (Mon, 04 Mar 2024) EndedAt: 2024-03-04 00:52:41 -0500 (Mon, 04 Mar 2024) EllapsedTime: 31.0 seconds RetCode: 0 Status: OK PackageFile: MsFeatures_1.10.0.tgz PackageFileSize: 1.203 MiB