Package: MsFeatures Version: 1.10.0 Command: rm -rf MsFeatures.buildbin-libdir && mkdir MsFeatures.buildbin-libdir && F:\biocbuild\bbs-3.18-bioc\R\bin\R.exe CMD INSTALL --build --library=MsFeatures.buildbin-libdir MsFeatures_1.10.0.tar.gz StartedAt: 2024-04-16 07:19:28 -0400 (Tue, 16 Apr 2024) EndedAt: 2024-04-16 07:19:54 -0400 (Tue, 16 Apr 2024) EllapsedTime: 26.1 seconds RetCode: 0 Status: OK PackageFile: MsFeatures_1.10.0.zip PackageFileSize: 887.8 KiB