Package: Mulcom Version: 1.52.0 Command: /Library/Frameworks/R.framework/Resources/bin/R CMD build --keep-empty-dirs --no-resave-data Mulcom StartedAt: 2024-03-03 17:31:43 -0500 (Sun, 03 Mar 2024) EndedAt: 2024-03-03 17:31:45 -0500 (Sun, 03 Mar 2024) EllapsedTime: 1.1 seconds RetCode: 0 Status: OK PackageFile: Mulcom_1.52.0.tar.gz PackageFileSize: 1.095 <A href="http://en.wikipedia.org/wiki/MiB" target="_blank">MiB</A>