Package: MultiAssayExperiment Version: 1.28.0 Command: /home/biocbuild/R/R-4.3.1/bin/R CMD build --keep-empty-dirs --no-resave-data MultiAssayExperiment StartedAt: 2023-11-02 03:50:28 -0000 (Thu, 02 Nov 2023) EndedAt: 2023-11-02 03:51:49 -0000 (Thu, 02 Nov 2023) EllapsedTime: 80.1 seconds RetCode: 0 Status: OK PackageFile: MultiAssayExperiment_1.28.0.tar.gz PackageFileSize: 1.204 MiB