Package: MultiAssayExperiment Version: 1.28.0 Command: /home/biocbuild/R/R-4.3.1/bin/R CMD INSTALL MultiAssayExperiment StartedAt: 2023-11-01 20:14:17 -0000 (Wed, 01 Nov 2023) EndedAt: 2023-11-01 20:15:02 -0000 (Wed, 01 Nov 2023) EllapsedTime: 44.1 seconds RetCode: 0 Status: OK