Package: MultiAssayExperiment Version: 1.28.0 Command: /Library/Frameworks/R.framework/Resources/bin/R CMD check --install=check:MultiAssayExperiment.install-out.txt --library=/Library/Frameworks/R.framework/Resources/library --no-vignettes --timings MultiAssayExperiment_1.28.0.tar.gz StartedAt: 2024-04-16 05:56:53 -0400 (Tue, 16 Apr 2024) EndedAt: 2024-04-16 06:05:01 -0400 (Tue, 16 Apr 2024) EllapsedTime: 488.4 seconds RetCode: 0 Status: OK CheckDir: MultiAssayExperiment.Rcheck Warnings: 0