Package: MultiAssayExperiment Version: 1.28.0 Command: rm -rf MultiAssayExperiment.buildbin-libdir && mkdir MultiAssayExperiment.buildbin-libdir && F:\biocbuild\bbs-3.18-bioc\R\bin\R.exe CMD INSTALL --build --library=MultiAssayExperiment.buildbin-libdir MultiAssayExperiment_1.28.0.tar.gz StartedAt: 2024-04-16 07:20:19 -0400 (Tue, 16 Apr 2024) EndedAt: 2024-04-16 07:21:10 -0400 (Tue, 16 Apr 2024) EllapsedTime: 50.5 seconds RetCode: 0 Status: OK PackageFile: MultiAssayExperiment_1.28.0.zip PackageFileSize: 2.009 MiB