Package: MultiMed
Version: 2.24.0
Command: /home/biocbuild/bbs-3.18-bioc/R/bin/R CMD build --keep-empty-dirs --no-resave-data MultiMed
StartedAt: 2024-04-15 18:07:54 -0400 (Mon, 15 Apr 2024)
EndedAt: 2024-04-15 18:08:01 -0400 (Mon, 15 Apr 2024)
EllapsedTime: 6.3 seconds
RetCode: 0
Status: OK
PackageFile: MultiMed_2.24.0.tar.gz
PackageFileSize: 425.1 <A href="http://en.wikipedia.org/wiki/KiB" target="_blank">KiB</A>