Package: MultiMed
Version: 2.24.0
Command: F:\biocbuild\bbs-3.18-bioc\R\bin\R.exe CMD INSTALL MultiMed
StartedAt: 2024-04-15 16:34:30 -0400 (Mon, 15 Apr 2024)
EndedAt: 2024-04-15 16:34:35 -0400 (Mon, 15 Apr 2024)
EllapsedTime: 5.5 seconds
RetCode: 0
Status: OK