Package: MultiRNAflow Version: 1.0.0 Command: /home/biocbuild/R/R-4.3.1/bin/R CMD INSTALL MultiRNAflow StartedAt: 2023-11-01 21:00:54 -0000 (Wed, 01 Nov 2023) EndedAt: 2023-11-01 21:01:45 -0000 (Wed, 01 Nov 2023) EllapsedTime: 50.9 seconds RetCode: 0 Status: OK