Package: MultiRNAflow Version: 1.0.0 Command: rm -rf MultiRNAflow.buildbin-libdir && mkdir MultiRNAflow.buildbin-libdir && F:\biocbuild\bbs-3.18-bioc\R\bin\R.exe CMD INSTALL --build --library=MultiRNAflow.buildbin-libdir MultiRNAflow_1.0.0.tar.gz StartedAt: 2024-04-16 07:20:43 -0400 (Tue, 16 Apr 2024) EndedAt: 2024-04-16 07:21:31 -0400 (Tue, 16 Apr 2024) EllapsedTime: 47.3 seconds RetCode: 0 Status: OK PackageFile: MultiRNAflow_1.0.0.zip PackageFileSize: 2.868 MiB