Package: MultiRNAflow Version: 1.0.0 Command: F:\biocbuild\bbs-3.18-bioc\R\bin\R.exe CMD INSTALL MultiRNAflow StartedAt: 2024-04-15 16:42:14 -0400 (Mon, 15 Apr 2024) EndedAt: 2024-04-15 16:42:58 -0400 (Mon, 15 Apr 2024) EllapsedTime: 44.5 seconds RetCode: 0 Status: OK