Package: MutationalPatterns
Version: 3.12.0
Command: /Library/Frameworks/R.framework/Resources/bin/R CMD build --keep-empty-dirs --no-resave-data MutationalPatterns
StartedAt: 2024-03-03 17:33:06 -0500 (Sun, 03 Mar 2024)
EndedAt: 2024-03-03 17:36:23 -0500 (Sun, 03 Mar 2024)
EllapsedTime: 196.9 seconds
RetCode: 1
Status: ERROR
PackageFile: None
PackageFileSize: NA