Package: MutationalPatterns Version: 3.12.0 Command: /Library/Frameworks/R.framework/Resources/bin/R CMD build --keep-empty-dirs --no-resave-data MutationalPatterns StartedAt: 2024-04-15 20:22:37 -0400 (Mon, 15 Apr 2024) EndedAt: 2024-04-15 20:27:32 -0400 (Mon, 15 Apr 2024) EllapsedTime: 294.7 seconds RetCode: 1 Status: ERROR PackageFile: None PackageFileSize: NA