Package: NBAMSeq Version: 1.18.0 Command: /home/biocbuild/R/R-4.3.1/bin/R CMD INSTALL NBAMSeq StartedAt: 2023-11-01 20:46:31 -0000 (Wed, 01 Nov 2023) EndedAt: 2023-11-01 20:47:13 -0000 (Wed, 01 Nov 2023) EllapsedTime: 41.8 seconds RetCode: 0 Status: OK