Package: NBAMSeq Version: 1.18.0 Command: chmod a+r NBAMSeq -R && F:\biocbuild\bbs-3.18-bioc\R\bin\R.exe CMD build --keep-empty-dirs --no-resave-data NBAMSeq StartedAt: 2024-04-15 19:51:35 -0400 (Mon, 15 Apr 2024) EndedAt: 2024-04-15 19:53:15 -0400 (Mon, 15 Apr 2024) EllapsedTime: 100.3 seconds RetCode: 0 Status: OK PackageFile: NBAMSeq_1.18.0.tar.gz PackageFileSize: 240.1 KiB