git_url: https://git.bioconductor.org/packages/NBSplice git_branch: devel git_last_commit: f41aa5a git_last_commit_date: 2023-03-30 12:47:55 -0400 (Thu, 30 Mar 2023) Package: NBSplice Version: 1.17.1 Maintainer: Gabriela Merino MaintainerEmail: merino.gabriela33 at gmail.com