Package: NBSplice Version: 1.17.1 Command: /home/biocbuild/bbs-3.18-bioc/R/bin/R CMD INSTALL NBSplice StartedAt: 2023-04-20 04:07:21 -0400 (Thu, 20 Apr 2023) EndedAt: 2023-04-20 04:07:22 -0400 (Thu, 20 Apr 2023) EllapsedTime: 0.9 seconds RetCode: 1 Status: ERROR