Package: NPARC Version: 1.14.0 Command: /Library/Frameworks/R.framework/Resources/bin/R CMD build --keep-empty-dirs --no-resave-data NPARC StartedAt: 2024-03-03 17:37:18 -0500 (Sun, 03 Mar 2024) EndedAt: 2024-03-03 17:42:02 -0500 (Sun, 03 Mar 2024) EllapsedTime: 284.1 seconds RetCode: 0 Status: OK PackageFile: NPARC_1.14.0.tar.gz PackageFileSize: 2.221 MiB