Package: NPARC Version: 1.14.0 Command: rm -rf NPARC.buildbin-libdir && mkdir NPARC.buildbin-libdir && /Users/biocbuild/BBS/utils/build-universal.sh NPARC_1.14.0.tar.gz /Library/Frameworks/R.framework/Resources/bin/R NPARC.buildbin-libdir StartedAt: 2024-04-16 12:20:34 -0400 (Tue, 16 Apr 2024) EndedAt: 2024-04-16 12:20:48 -0400 (Tue, 16 Apr 2024) EllapsedTime: 13.8 seconds RetCode: 0 Status: OK PackageFile: NPARC_1.14.0.tgz PackageFileSize: 2.474 MiB