Package: NTW Version: 1.52.0 Command: /home/biocbuild/R/R-4.3.1/bin/R CMD build --keep-empty-dirs --no-resave-data NTW StartedAt: 2023-11-02 04:07:59 -0000 (Thu, 02 Nov 2023) EndedAt: 2023-11-02 04:08:09 -0000 (Thu, 02 Nov 2023) EllapsedTime: 9.0 seconds RetCode: 0 Status: OK PackageFile: NTW_1.52.0.tar.gz PackageFileSize: 859.5 KiB