Package: NanoMethViz Version: 2.8.0 Command: /home/biocbuild/R/R-4.3.1/bin/R CMD INSTALL NanoMethViz StartedAt: 2023-11-01 20:54:47 -0000 (Wed, 01 Nov 2023) EndedAt: 2023-11-01 20:56:37 -0000 (Wed, 01 Nov 2023) EllapsedTime: 110.0 seconds RetCode: 0 Status: OK