Package: NanoMethViz Version: 2.8.1 Command: /Library/Frameworks/R.framework/Resources/bin/R CMD build --keep-empty-dirs --no-resave-data NanoMethViz StartedAt: 2024-03-03 17:33:38 -0500 (Sun, 03 Mar 2024) EndedAt: 2024-03-03 17:36:36 -0500 (Sun, 03 Mar 2024) EllapsedTime: 177.7 seconds RetCode: 0 Status: OK PackageFile: NanoMethViz_2.8.1.tar.gz PackageFileSize: 5.628 MiB