Package: Nebulosa Version: 1.12.1 Command: rm -rf Nebulosa.buildbin-libdir && mkdir Nebulosa.buildbin-libdir && F:\biocbuild\bbs-3.18-bioc\R\bin\R.exe CMD INSTALL --build --library=Nebulosa.buildbin-libdir Nebulosa_1.12.1.tar.gz StartedAt: 2024-04-16 07:21:54 -0400 (Tue, 16 Apr 2024) EndedAt: 2024-04-16 07:22:38 -0400 (Tue, 16 Apr 2024) EllapsedTime: 44.6 seconds RetCode: 0 Status: OK PackageFile: Nebulosa_1.12.1.zip PackageFileSize: 2.28 MiB