Package: NeighborNet Version: 1.20.0 Command: /home/biocbuild/bbs-3.18-bioc/R/bin/R CMD build --keep-empty-dirs --no-resave-data NeighborNet StartedAt: 2024-04-15 18:11:03 -0400 (Mon, 15 Apr 2024) EndedAt: 2024-04-15 18:11:17 -0400 (Mon, 15 Apr 2024) EllapsedTime: 13.6 seconds RetCode: 0 Status: OK PackageFile: NeighborNet_1.20.0.tar.gz PackageFileSize: 3.562 MiB