Package: NeighborNet Version: 1.20.0 Command: rm -rf NeighborNet.buildbin-libdir && mkdir NeighborNet.buildbin-libdir && F:\biocbuild\bbs-3.18-bioc\R\bin\R.exe CMD INSTALL --build --library=NeighborNet.buildbin-libdir NeighborNet_1.20.0.tar.gz StartedAt: 2024-04-16 07:21:57 -0400 (Tue, 16 Apr 2024) EndedAt: 2024-04-16 07:22:03 -0400 (Tue, 16 Apr 2024) EllapsedTime: 6.2 seconds RetCode: 0 Status: OK PackageFile: NeighborNet_1.20.0.zip PackageFileSize: 3.542 MiB