Package: NetSAM Version: 1.42.0 Command: /home/biocbuild/R/R-4.3.1/bin/R CMD build --keep-empty-dirs --no-resave-data NetSAM StartedAt: 2023-11-02 04:03:06 -0000 (Thu, 02 Nov 2023) EndedAt: 2023-11-02 04:03:43 -0000 (Thu, 02 Nov 2023) EllapsedTime: 37.1 seconds RetCode: 0 Status: OK PackageFile: NetSAM_1.42.0.tar.gz PackageFileSize: 1.024 MiB