Package: NetSAM Version: 1.42.0 Command: /Library/Frameworks/R.framework/Resources/bin/R CMD check --install=check:NetSAM.install-out.txt --library=/Library/Frameworks/R.framework/Resources/library --no-vignettes --timings NetSAM_1.42.0.tar.gz StartedAt: 2024-03-03 22:10:54 -0500 (Sun, 03 Mar 2024) EndedAt: 2024-03-03 22:29:21 -0500 (Sun, 03 Mar 2024) EllapsedTime: 1106.9 seconds RetCode: 1 Status: ERROR CheckDir: NetSAM.Rcheck Warnings: NA