Package: NetSAM Version: 1.42.0 Command: /Library/Frameworks/R.framework/Resources/bin/R CMD build --keep-empty-dirs --no-resave-data NetSAM StartedAt: 2024-04-15 20:27:58 -0400 (Mon, 15 Apr 2024) EndedAt: 2024-04-15 20:29:06 -0400 (Mon, 15 Apr 2024) EllapsedTime: 68.4 seconds RetCode: 0 Status: OK PackageFile: NetSAM_1.42.0.tar.gz PackageFileSize: 1.034 MiB