Package: NetSAM Version: 1.42.0 Command: /Library/Frameworks/R.framework/Resources/bin/R CMD INSTALL NetSAM StartedAt: 2024-04-15 16:22:56 -0400 (Mon, 15 Apr 2024) EndedAt: 2024-04-15 16:23:49 -0400 (Mon, 15 Apr 2024) EllapsedTime: 53.9 seconds RetCode: 0 Status: OK