Package: NetSAM Version: 1.42.0 Command: chmod a+r NetSAM -R && F:\biocbuild\bbs-3.18-bioc\R\bin\R.exe CMD build --keep-empty-dirs --no-resave-data NetSAM StartedAt: 2024-04-15 19:53:45 -0400 (Mon, 15 Apr 2024) EndedAt: 2024-04-15 19:54:23 -0400 (Mon, 15 Apr 2024) EllapsedTime: 38.2 seconds RetCode: 0 Status: OK PackageFile: NetSAM_1.42.0.tar.gz PackageFileSize: 1.035 MiB