Package: NetSAM Version: 1.42.0 Command: F:\biocbuild\bbs-3.18-bioc\R\bin\R.exe CMD INSTALL NetSAM StartedAt: 2024-04-15 16:33:56 -0400 (Mon, 15 Apr 2024) EndedAt: 2024-04-15 16:34:31 -0400 (Mon, 15 Apr 2024) EllapsedTime: 34.9 seconds RetCode: 0 Status: OK