Package: OLIN Version: 1.80.0 Command: /home/biocbuild/bbs-3.18-bioc/R/bin/R CMD build --keep-empty-dirs --no-resave-data OLIN StartedAt: 2024-04-15 18:16:22 -0400 (Mon, 15 Apr 2024) EndedAt: 2024-04-15 18:17:04 -0400 (Mon, 15 Apr 2024) EllapsedTime: 42.3 seconds RetCode: 0 Status: OK PackageFile: OLIN_1.80.0.tar.gz PackageFileSize: 2.42 MiB