Package: OLIN Version: 1.80.0 Command: /home/biocbuild/bbs-3.18-bioc/R/bin/R CMD INSTALL OLIN StartedAt: 2024-04-15 15:09:35 -0400 (Mon, 15 Apr 2024) EndedAt: 2024-04-15 15:09:53 -0400 (Mon, 15 Apr 2024) EllapsedTime: 17.8 seconds RetCode: 0 Status: OK