Package: OLIN Version: 1.80.0 Command: chmod a+r OLIN -R && F:\biocbuild\bbs-3.18-bioc\R\bin\R.exe CMD build --keep-empty-dirs --no-resave-data OLIN StartedAt: 2024-04-15 19:57:15 -0400 (Mon, 15 Apr 2024) EndedAt: 2024-04-15 19:57:55 -0400 (Mon, 15 Apr 2024) EllapsedTime: 40.2 seconds RetCode: 0 Status: OK PackageFile: OLIN_1.80.0.tar.gz PackageFileSize: 2.424 MiB