Package: OLINgui Version: 1.76.0 Command: rm -rf OLINgui.buildbin-libdir && mkdir OLINgui.buildbin-libdir && F:\biocbuild\bbs-3.18-bioc\R\bin\R.exe CMD INSTALL --build --library=OLINgui.buildbin-libdir OLINgui_1.76.0.tar.gz StartedAt: 2024-04-16 07:23:14 -0400 (Tue, 16 Apr 2024) EndedAt: 2024-04-16 07:23:28 -0400 (Tue, 16 Apr 2024) EllapsedTime: 14.5 seconds RetCode: 0 Status: OK PackageFile: OLINgui_1.76.0.zip PackageFileSize: 225.3 KiB