Package: OLINgui Version: 1.76.0 Command: chmod a+r OLINgui -R && F:\biocbuild\bbs-3.18-bioc\R\bin\R.exe CMD build --keep-empty-dirs --no-resave-data OLINgui StartedAt: 2024-04-15 19:57:28 -0400 (Mon, 15 Apr 2024) EndedAt: 2024-04-15 19:57:42 -0400 (Mon, 15 Apr 2024) EllapsedTime: 14.2 seconds RetCode: 0 Status: OK PackageFile: OLINgui_1.76.0.tar.gz PackageFileSize: 234.7 KiB