Package: OLINgui
Version: 1.76.0
Command: F:\biocbuild\bbs-3.18-bioc\R\bin\R.exe CMD check --no-multiarch --install=check:OLINgui.install-out.txt --library=F:\biocbuild\bbs-3.18-bioc\R\library --no-vignettes --timings OLINgui_1.76.0.tar.gz
StartedAt: 2024-04-16 03:21:28 -0400 (Tue, 16 Apr 2024)
EndedAt: 2024-04-16 03:22:11 -0400 (Tue, 16 Apr 2024)
EllapsedTime: 43.0 seconds
RetCode: 0
Status: OK
CheckDir: OLINgui.Rcheck
Warnings: 0