Package: ORFhunteR Version: 1.9.0 Command: /home/biocbuild/R/R-4.3.1/bin/R CMD check --install=check:ORFhunteR.install-out.txt --library=/home/biocbuild/R/R-4.3.1/site-library --timings ORFhunteR_1.9.0.tar.gz StartedAt: 2023-10-24 10:27:27 -0000 (Tue, 24 Oct 2023) EndedAt: 2023-10-24 10:40:56 -0000 (Tue, 24 Oct 2023) EllapsedTime: 808.8 seconds RetCode: 0 Status: OK CheckDir: ORFhunteR.Rcheck Warnings: 0