Package: ORFhunteR Version: 1.10.0 Command: /Library/Frameworks/R.framework/Resources/bin/R CMD build --keep-empty-dirs --no-resave-data ORFhunteR StartedAt: 2024-04-15 20:38:15 -0400 (Mon, 15 Apr 2024) EndedAt: 2024-04-15 20:44:27 -0400 (Mon, 15 Apr 2024) EllapsedTime: 372.3 seconds RetCode: 0 Status: OK PackageFile: ORFhunteR_1.10.0.tar.gz PackageFileSize: 2.108 MiB