Package: OVESEG Version: 1.18.0 Command: /Library/Frameworks/R.framework/Resources/bin/R CMD build --keep-empty-dirs --no-resave-data OVESEG StartedAt: 2024-04-15 20:39:51 -0400 (Mon, 15 Apr 2024) EndedAt: 2024-04-15 20:58:15 -0400 (Mon, 15 Apr 2024) EllapsedTime: 1103.8 seconds RetCode: 0 Status: OK PackageFile: OVESEG_1.18.0.tar.gz PackageFileSize: 796.6 KiB