Package: OVESEG Version: 1.18.0 Command: /Library/Frameworks/R.framework/Resources/bin/R CMD INSTALL OVESEG StartedAt: 2024-04-15 15:24:33 -0400 (Mon, 15 Apr 2024) EndedAt: 2024-04-15 15:25:27 -0400 (Mon, 15 Apr 2024) EllapsedTime: 54.2 seconds RetCode: 0 Status: OK