Package: OmaDB Version: 2.18.0 Command: /home/biocbuild/R/R-4.3.1/bin/R CMD check --install=check:OmaDB.install-out.txt --library=/home/biocbuild/R/R-4.3.1/site-library --no-vignettes --timings OmaDB_2.18.0.tar.gz StartedAt: 2023-11-02 12:46:04 -0000 (Thu, 02 Nov 2023) EndedAt: 2023-11-02 12:55:43 -0000 (Thu, 02 Nov 2023) EllapsedTime: 578.9 seconds RetCode: 0 Status: OK CheckDir: OmaDB.Rcheck Warnings: 0