Package: OmaDB Version: 2.18.0 Command: /Library/Frameworks/R.framework/Resources/bin/R CMD build --keep-empty-dirs --no-resave-data OmaDB StartedAt: 2024-03-03 17:38:19 -0500 (Sun, 03 Mar 2024) EndedAt: 2024-03-03 17:38:48 -0500 (Sun, 03 Mar 2024) EllapsedTime: 29.3 seconds RetCode: 0 Status: OK PackageFile: OmaDB_2.18.0.tar.gz PackageFileSize: 97.95 KiB